BEGIN:VCALENDAR
VERSION:2.0
PRODID:-//Australian Taekwondo - ECPv6.15.20//NONSGML v1.0//EN
CALSCALE:GREGORIAN
METHOD:PUBLISH
X-ORIGINAL-URL:https://austkd.com.au
X-WR-CALDESC:Events for Australian Taekwondo
REFRESH-INTERVAL;VALUE=DURATION:PT1H
X-Robots-Tag:noindex
X-PUBLISHED-TTL:PT1H
BEGIN:VTIMEZONE
TZID:Australia/Melbourne
BEGIN:STANDARD
TZOFFSETFROM:+1100
TZOFFSETTO:+1000
TZNAME:AEST
DTSTART:20220402T160000
END:STANDARD
BEGIN:DAYLIGHT
TZOFFSETFROM:+1000
TZOFFSETTO:+1100
TZNAME:AEDT
DTSTART:20221001T160000
END:DAYLIGHT
BEGIN:STANDARD
TZOFFSETFROM:+1100
TZOFFSETTO:+1000
TZNAME:AEST
DTSTART:20230401T160000
END:STANDARD
BEGIN:DAYLIGHT
TZOFFSETFROM:+1000
TZOFFSETTO:+1100
TZNAME:AEDT
DTSTART:20230930T160000
END:DAYLIGHT
BEGIN:STANDARD
TZOFFSETFROM:+1100
TZOFFSETTO:+1000
TZNAME:AEST
DTSTART:20240406T160000
END:STANDARD
BEGIN:DAYLIGHT
TZOFFSETFROM:+1000
TZOFFSETTO:+1100
TZNAME:AEDT
DTSTART:20241005T160000
END:DAYLIGHT
END:VTIMEZONE
BEGIN:VEVENT
DTSTART;TZID=Australia/Melbourne:20230513T133000
DTEND;TZID=Australia/Melbourne:20230513T160000
DTSTAMP:20260424T032021
CREATED:20230216T030710Z
LAST-MODIFIED:20230216T030710Z
UID:10000036-1683984600-1683993600@austkd.com.au
SUMMARY:Get Involved in Para-Taekwondo - QLD
DESCRIPTION:Join us at one of Paralympics Australia’s upcoming Multi-Sport Days! It’s your opportunity to learn more about the programs on offer in your local area\, meet new friends and have fun. \nTo register for this session\, please click here.
URL:https://austkd.com.au/event-information-centre/get-involved-in-para-taekwondo-qld/
LOCATION:Townsville Sports Precinct\, 24 Burke St\, North Ward\, QLD\, 4810\, Australia
CATEGORIES:Para Event
ATTACH;FMTTYPE=image/jpeg:https://austkd.com.au/wp-content/uploads/2023/02/AUSTKD_PA_logo.jpg
ORGANIZER;CN="Australian Taekwondo":MAILTO:events@austkd.com.au
GEO:-19.2497366;146.807104
X-APPLE-STRUCTURED-LOCATION;VALUE=URI;X-ADDRESS=Townsville Sports Precinct 24 Burke St North Ward QLD 4810 Australia;X-APPLE-RADIUS=500;X-TITLE=24 Burke St:geo:146.807104,-19.2497366
END:VEVENT
END:VCALENDAR