BEGIN:VCALENDAR
VERSION:2.0
PRODID:-//Australian Taekwondo - ECPv6.15.20//NONSGML v1.0//EN
CALSCALE:GREGORIAN
METHOD:PUBLISH
X-WR-CALNAME:Australian Taekwondo
X-ORIGINAL-URL:https://austkd.com.au
X-WR-CALDESC:Events for Australian Taekwondo
REFRESH-INTERVAL;VALUE=DURATION:PT1H
X-Robots-Tag:noindex
X-PUBLISHED-TTL:PT1H
BEGIN:VTIMEZONE
TZID:Australia/Melbourne
BEGIN:STANDARD
TZOFFSETFROM:+1100
TZOFFSETTO:+1000
TZNAME:AEST
DTSTART:20230401T160000
END:STANDARD
BEGIN:DAYLIGHT
TZOFFSETFROM:+1000
TZOFFSETTO:+1100
TZNAME:AEDT
DTSTART:20230930T160000
END:DAYLIGHT
BEGIN:STANDARD
TZOFFSETFROM:+1100
TZOFFSETTO:+1000
TZNAME:AEST
DTSTART:20240406T160000
END:STANDARD
BEGIN:DAYLIGHT
TZOFFSETFROM:+1000
TZOFFSETTO:+1100
TZNAME:AEDT
DTSTART:20241005T160000
END:DAYLIGHT
BEGIN:STANDARD
TZOFFSETFROM:+1100
TZOFFSETTO:+1000
TZNAME:AEST
DTSTART:20250405T160000
END:STANDARD
BEGIN:DAYLIGHT
TZOFFSETFROM:+1000
TZOFFSETTO:+1100
TZNAME:AEDT
DTSTART:20251004T160000
END:DAYLIGHT
END:VTIMEZONE
BEGIN:VEVENT
DTSTART;VALUE=DATE:20240726
DTEND;VALUE=DATE:20240812
DTSTAMP:20260420T151418
CREATED:20240131T034904Z
LAST-MODIFIED:20240131T035531Z
UID:10000098-1721952000-1723420799@austkd.com.au
SUMMARY:2024 Summer Olympics
DESCRIPTION:The taekwondo events will take place between the 7th and the 10th of August at the Grand Palais. \nThe Grand Palais is an architectural masterpiece at the heart of Paris. It is renowned worldwide for its magnificent nave and glass roof\, and will offer an outstanding setting for the Paris 2024 Olympic and Paralympic competitions.\n\nFor Olympic selection information\, please click here.\nFor qualification information\, please click here.\n\n\n\n 
URL:https://austkd.com.au/event-information-centre/2024-summer-olympics/
LOCATION:Paris\, France
CATEGORIES:International Event
ATTACH;FMTTYPE=image/jpeg:https://austkd.com.au/wp-content/uploads/2024/01/OLY-Bnner.jpg
END:VEVENT
BEGIN:VEVENT
DTSTART;TZID=Australia/Melbourne:20240728T080000
DTEND;TZID=Australia/Melbourne:20240728T170000
DTSTAMP:20260420T151418
CREATED:20231221T233543Z
LAST-MODIFIED:20231222T050320Z
UID:10000082-1722153600-1722186000@austkd.com.au
SUMMARY:VIC State Championships
DESCRIPTION:Event Information \nClick Here \nContact \naustkdvic@gmail.com \nThis event is managed by Australian Taekwondo Victoria. Please contact the state representative provided regarding any information about this event.
URL:https://austkd.com.au/event-information-centre/vic-state-championships/
CATEGORIES:Breaking,Kyorugi,Para Event,Poomsae,Selection Event (State Team),State Event
ATTACH;FMTTYPE=image/jpeg:https://austkd.com.au/wp-content/uploads/2023/02/VIC_logo.jpg
END:VEVENT
END:VCALENDAR