BEGIN:VCALENDAR
VERSION:2.0
PRODID:-//Australian Taekwondo - ECPv6.15.20//NONSGML v1.0//EN
CALSCALE:GREGORIAN
METHOD:PUBLISH
X-WR-CALNAME:Australian Taekwondo
X-ORIGINAL-URL:https://austkd.com.au
X-WR-CALDESC:Events for Australian Taekwondo
REFRESH-INTERVAL;VALUE=DURATION:PT1H
X-Robots-Tag:noindex
X-PUBLISHED-TTL:PT1H
BEGIN:VTIMEZONE
TZID:Australia/Melbourne
BEGIN:STANDARD
TZOFFSETFROM:+1100
TZOFFSETTO:+1000
TZNAME:AEST
DTSTART:20240406T160000
END:STANDARD
BEGIN:DAYLIGHT
TZOFFSETFROM:+1000
TZOFFSETTO:+1100
TZNAME:AEDT
DTSTART:20241005T160000
END:DAYLIGHT
BEGIN:STANDARD
TZOFFSETFROM:+1100
TZOFFSETTO:+1000
TZNAME:AEST
DTSTART:20250405T160000
END:STANDARD
BEGIN:DAYLIGHT
TZOFFSETFROM:+1000
TZOFFSETTO:+1100
TZNAME:AEDT
DTSTART:20251004T160000
END:DAYLIGHT
BEGIN:STANDARD
TZOFFSETFROM:+1100
TZOFFSETTO:+1000
TZNAME:AEST
DTSTART:20260404T160000
END:STANDARD
BEGIN:DAYLIGHT
TZOFFSETFROM:+1000
TZOFFSETTO:+1100
TZNAME:AEDT
DTSTART:20261003T160000
END:DAYLIGHT
END:VTIMEZONE
BEGIN:VTIMEZONE
TZID:Australia/Perth
BEGIN:STANDARD
TZOFFSETFROM:+0800
TZOFFSETTO:+0800
TZNAME:AWST
DTSTART:20240101T000000
END:STANDARD
END:VTIMEZONE
BEGIN:VEVENT
DTSTART;TZID=Australia/Melbourne:20250521T173000
DTEND;TZID=Australia/Melbourne:20250521T183000
DTSTAMP:20260421T061400
CREATED:20250305T233746Z
LAST-MODIFIED:20250305T233746Z
UID:10000157-1747848600-1747852200@austkd.com.au
SUMMARY:ASC Coaching Webinar Week 4 - Coaching Considerations for neurodiverse participants
DESCRIPTION:Topic: Coaching considerations for neurodiverse participants \nGuests: Dr Chris Edwards (Autism Spectrum Australia)\, Dr Tom Tutton (Autism Spectrum Australia)\, Melissa Webster (ADHD Australia) & Sharon Deans (Surf Life Saving Australia) \nDate: 21st May \nTime: 5:30-6:30 pm \nLink to register: https://events.teams.microsoft.com/event/ff911f8d-8b73-4f7f-81ce-ef57fd90276d@8d2e0f4c-55f2-4cb1-8ee7-da5dd3ff3600
URL:https://austkd.com.au/event-information-centre/asc-coaching-webinar-week-4-coaching-considerations-for-neurodiverse-participants/
LOCATION:ACT
CATEGORIES:Education & Training
END:VEVENT
BEGIN:VEVENT
DTSTART;TZID=Australia/Perth:20250525T090000
DTEND;TZID=Australia/Perth:20250525T160000
DTSTAMP:20260421T061400
CREATED:20250409T002216Z
LAST-MODIFIED:20250409T002425Z
UID:10000161-1748163600-1748188800@austkd.com.au
SUMMARY:WA Referee Course - All referee levels
DESCRIPTION:AT Western Australia are hosting a Referee Course for all referee levels for Red and Black Belts aged 14 and over. \nRegistration: https://www.revolutionise.com.au/australiantaekwondo/events/291259 \n\nDate: Sunday May 25 2025\nTime: 9:00am-4:00pm AWST\nLocation: Oh Do Wan Taekwondo Academy - Unit 16 Bakewell Drive\, Port Kennedy WA 6172.\nEntries Close: 5pm Friday May 23rd\nBring: Wear Comfortable clothing.\nFee: $40
URL:https://austkd.com.au/event-information-centre/wa-referee-course-all-referee-levels/
LOCATION:Oh Do Kwan Taekwondo\, Australia
CATEGORIES:Education & Training,Kyorugi
GEO:-25.274398;133.775136
END:VEVENT
BEGIN:VEVENT
DTSTART;TZID=Australia/Melbourne:20250531T090000
DTEND;TZID=Australia/Melbourne:20250531T170000
DTSTAMP:20260421T061400
CREATED:20241206T054403Z
LAST-MODIFIED:20250429T030855Z
UID:10000140-1748682000-1748710800@austkd.com.au
SUMMARY:2025 Senior Selection Event
DESCRIPTION:For More information regarding the Senior Selection Event\, visit this page here; \n  \nAustralian Taekwondo is proud to announce the Senior World Championship Selection Event\, set to take place on Saturday May 31st at the Whitlam Leisure Centre\, Sydney. This prestigious event will determine the athletes who will represent Australia at the Wuxi 2025 World Taekwondo Championships G-14 in Wuxi\, China from 24th October 2025 - 30th October 2025. \nEvent Details:\n\nWeigh-In: Friday May 30th\nReferee Meeting: May 30th\nCoach Meeting: May 30th\nRandom Weigh In: May 31st\nEvent: Saturday May 31st\nVenue: Whitlam Leisure centre\, 90a Memorial Drive\, Liverpool\n\nRandom Weigh-in:\nSaturday 31st May at 8am (1 attempt only) \nLocation:  Whitlam Leisure centre\, 90a Memorial Drive\, Liverpool \n* Random Weigh-in Selected athletes will be posted at 6am on Saturday 31st May 2025. All Athletes selected must attend the random weigh-in. Failure to attend will result in disqualification. \n** Random Weigh-in list will be posted on the AUS TKD website event page. \nCompetition:\n31st May 2024 from 9am onwards \nLocation: Whitlam Leisure centre\, 90a Memorial Drive\, Liverpool \n* Marshalling commences at 8:20am. \n  \nIMPORTANT\nREQUIRED ACCREDITATION AND MEMBERSHIP\n\nAll Athletes must have upgraded their Basic Membership to a National Athlete Licence (NAL) prior to registration. For more information on this\, please contact your club.\n\nCheck your membership level via this link \n\nAll Coaches must have valid Australian Taekwondo Membership and current coaches accreditation. Please check your accreditation is up to date prior to registration.\n\nCheck your coaches accreditation via this link \nWorld Taekwondo Rules and Regulations\nThis event will be conducted by World Taekwondo Rules and Regulations. \nDownload PDF here: \nWorld Taekwondo - Recognised Branding Guidelines\nWT recognised branding guidelines. Check your equipment / uniform is recognised. \nDownload PDF here \nhttp://www.worldtaekwondo.org/wtpartners-wt/recognize.html \nKyorugi Competition Uniform\nApproved Uniforms \nMouth Guard\, Taping &amp; Piercing Regulations\nWorld Taekwondo Mouth Guard Regulations \nAthlete and Coach Event Guide\nDownload PDF here: \nAustralian Taekwondo - Selection Policy\nDownload PDF here: \n  \nFISU World University Games 2025\nWe are pleased to announce that selections for the 2025 FISU World University Games\, to be held in Essen\, Germany from July 17–23\, will also take place during this event. \nImportant Information for Athletes Seeking Selection: \n\nAny athlete wishing to be considered for selection to the FISU World University Games must declare their intent during the event registration process.\nAthletes must also provide details about their current university enrolment\, including:\nName of the university.\nProof of enrolment (to be submitted upon selection acceptance).\nOnly athletes who are actively enrolled in a recognised university at the time of the Selections or the Games will be eligible for consideration in accordance with FISU eligibility guidelines.\nThe athlete who places first within their weight division will be presented with the selection opportunity\, provided they have declared their intent and meet all eligibility requirements.\nIf the first-place athlete is unable or ineligible to accept the selection opportunity\, it will be offered to the next highest-placed eligible athlete in that division.\n\nFailure to declare your intent during registration or to provide proof of university enrolment upon selection may result in ineligibility for FISU selection. \n  \nContact\nFor all questions concerning this event\, please email help@austkd.com.au \nFor any Smoothcomp questions concerning this event\, please email Anne Marie Smith ani.smith@austkd.com.au
URL:https://austkd.com.au/event-information-centre/2025-senior-selection-event/
LOCATION:Whitlam Leisure Centre\, 90A Memorial Ave\, Liverpool\, NSW\, 2170\, Australia
CATEGORIES:Kyorugi,National Event,Selection Event (National Team)
ATTACH;FMTTYPE=image/png:https://austkd.com.au/wp-content/uploads/2024/02/Combat-AT.png
ORGANIZER;CN="Australian Taekwondo":MAILTO:events@austkd.com.au
GEO:-33.9257157;150.9157043
X-APPLE-STRUCTURED-LOCATION;VALUE=URI;X-ADDRESS=Whitlam Leisure Centre 90A Memorial Ave Liverpool NSW 2170 Australia;X-APPLE-RADIUS=500;X-TITLE=90A Memorial Ave:geo:150.9157043,-33.9257157
END:VEVENT
BEGIN:VEVENT
DTSTART;TZID=Australia/Melbourne:20250602T173000
DTEND;TZID=Australia/Melbourne:20250602T183000
DTSTAMP:20260421T061400
CREATED:20250305T234042Z
LAST-MODIFIED:20250305T234042Z
UID:10000158-1748885400-1748889000@austkd.com.au
SUMMARY:ASC Coaching Webinar Week 5 - Coaching Mentors in Community Sport
DESCRIPTION:Topic: Coaching mentors in community sport \nGuests: Julia Lawrence (Senior Coaching Advisor\, ASC) & Kym Laube (South Australian National Football League) \nDate: 2nd June \nTime: 5:30-6:30 pm \nLink to register: https://events.teams.microsoft.com/event/2b58eab8-5509-473d-8948-804a8d946a58@8d2e0f4c-55f2-4cb1-8ee7-da5dd3ff3600
URL:https://austkd.com.au/event-information-centre/asc-coaching-webinar-week-5-coaching-mentors-in-community-sport/
LOCATION:ACT
CATEGORIES:Education & Training
END:VEVENT
BEGIN:VEVENT
DTSTART;TZID=Australia/Melbourne:20250615T090000
DTEND;TZID=Australia/Melbourne:20250615T170000
DTSTAMP:20260421T061400
CREATED:20250520T032736Z
LAST-MODIFIED:20250520T032851Z
UID:10000163-1749978000-1750006800@austkd.com.au
SUMMARY:QLD Poomsae Referee Course
DESCRIPTION:Poomsae Referee Accreditation Course for Level 1-4\, including upgrades\, refreshers and new referee. \nVenue: Flinn Taekwondo Academy (18 French Avenue\, Brendale\, Queensland\, 4500) \nEvent time: 15/6/2025 9:00am-5pm \nWhat to bring: Wear full uniform and belt. Notebook and writing utensils\, or electronic note taking device. Water Bottle and lunch.
URL:https://austkd.com.au/event-information-centre/qld-poomsae-referee-course/
LOCATION:Flinn Taekwondo Academy\, 18 French Avenue\, Brendale\, Queensland\, 4500\, Australia
CATEGORIES:Education & Training,Poomsae
ATTACH;FMTTYPE=image/png:https://austkd.com.au/wp-content/uploads/2025/05/download.png
ORGANIZER;CN="Australian Taekwondo QLD":MAILTO:referee@qldtkd.com.au
GEO:-27.3119644;152.9785669
X-APPLE-STRUCTURED-LOCATION;VALUE=URI;X-ADDRESS=Flinn Taekwondo Academy 18 French Avenue Brendale Queensland 4500 Australia;X-APPLE-RADIUS=500;X-TITLE=18 French Avenue:geo:152.9785669,-27.3119644
END:VEVENT
BEGIN:VEVENT
DTSTART;TZID=Australia/Melbourne:20250617T173000
DTEND;TZID=Australia/Melbourne:20250617T183000
DTSTAMP:20260421T061400
CREATED:20250305T234312Z
LAST-MODIFIED:20250305T234312Z
UID:10000159-1750181400-1750185000@austkd.com.au
SUMMARY:ASC Coaching Webinar Week 6 - Q&A about the modern approach
DESCRIPTION:Topic: Q&A about the modern approach \nGuests: Dr Alex Lascu (Queensland Academy of Sport) & Jim Mckay (International Rugby Academy of Australia & Noosa District Rugby Union Club) \nDate: 17th June \nTime: 5:30-6:30 pm \nLink to register: https://events.teams.microsoft.com/event/e1a5a1c9-a191-4661-8dba-bc12af51509f@8d2e0f4c-55f2-4cb1-8ee7-da5dd3ff3600
URL:https://austkd.com.au/event-information-centre/asc-coaching-webinar-week-6-qa-about-the-modern-approach/
LOCATION:ACT
CATEGORIES:Education & Training
END:VEVENT
BEGIN:VEVENT
DTSTART;VALUE=DATE:20250717
DTEND;VALUE=DATE:20250720
DTSTAMP:20260421T061400
CREATED:20250515T023853Z
LAST-MODIFIED:20250515T023853Z
UID:10000162-1752710400-1752969599@austkd.com.au
SUMMARY:Hanmadang 2025
DESCRIPTION:Event Information \n\nDates: July 17th – 19th 2025\nLocation: Anaheim\, California (USA)\nPromoter: Kukkiwon\, USA\nOrganizer: 2025 USA World Taekwondo Hanmadang Organizing Committee\nEvent Website: click here\nEvent Contest Outline: click here\n\nRegistration  \n\nRegistration is now open\nRegistrations will close June 9th\, 2025\nAll Fee must be paid prior to June 16th\n\nHow to Register \nPlease complete this form and our Head of Team will complete your registration. AT will then issue an invoice for your entry fees. \nApplications to be part of the Australian Team close May 26th\, 2025.
URL:https://austkd.com.au/event-information-centre/hanmadang-2025/
LOCATION:Anaheim\, California\, United States
GEO:38.7945952;-106.5348379
END:VEVENT
BEGIN:VEVENT
DTSTART;TZID=Australia/Melbourne:20250814T080000
DTEND;TZID=Australia/Melbourne:20250815T190000
DTSTAMP:20260421T061400
CREATED:20241206T055736Z
LAST-MODIFIED:20241206T060017Z
UID:10000143-1755158400-1755284400@austkd.com.au
SUMMARY:WT Presidents Cup G3
DESCRIPTION:WT Presidents Cup G3 \nEvent Details \n\nThursday August 14 - Senior + Para Kyorugi\nFriday August 15 - Cadet/Junior Kyorugi + Poomsae + Para Poomsae\n\nContact \nevents@austkd.com.au
URL:https://austkd.com.au/event-information-centre/wt-presidents-cup-g3/
LOCATION:Gold Coast Sport and Recreation Centre\, Nerang Broadbeach Road 296\, Carrara\, QKD\, 4211\, Australia
CATEGORIES:International Event,Kyorugi,Para Event,Poomsae
ATTACH;FMTTYPE=image/jpeg:https://austkd.com.au/wp-content/uploads/2022/12/AUSTKD_WT_logo.jpg
GEO:-28.0043258;153.3641028
X-APPLE-STRUCTURED-LOCATION;VALUE=URI;X-ADDRESS=Gold Coast Sport and Recreation Centre Nerang Broadbeach Road 296 Carrara QKD 4211 Australia;X-APPLE-RADIUS=500;X-TITLE=Nerang Broadbeach Road 296:geo:153.3641028,-28.0043258
END:VEVENT
BEGIN:VEVENT
DTSTART;TZID=Australia/Melbourne:20250816T080000
DTEND;TZID=Australia/Melbourne:20250817T190000
DTSTAMP:20260421T061400
CREATED:20241206T055553Z
LAST-MODIFIED:20241206T060129Z
UID:10000142-1755331200-1755457200@austkd.com.au
SUMMARY:Australian Open G2
DESCRIPTION:Australian Open G2 \nEvent Details \n\nSaturday August 16 - Senior + Para Kyorugi\nSunday August 17 - Cadet/Junior Kyorugi + Poomsae + Para Poomsae\n\nContact \nevents@austkd.com.au
URL:https://austkd.com.au/event-information-centre/australian-open-g/
LOCATION:Gold Coast Sport and Recreation Centre\, Nerang Broadbeach Road 296\, Carrara\, QKD\, 4211\, Australia
CATEGORIES:International Event,Kyorugi,Para Event,Poomsae
ATTACH;FMTTYPE=image/jpeg:https://austkd.com.au/wp-content/uploads/2022/12/AUSTKD_WT_logo.jpg
GEO:-28.0043258;153.3641028
X-APPLE-STRUCTURED-LOCATION;VALUE=URI;X-ADDRESS=Gold Coast Sport and Recreation Centre Nerang Broadbeach Road 296 Carrara QKD 4211 Australia;X-APPLE-RADIUS=500;X-TITLE=Nerang Broadbeach Road 296:geo:153.3641028,-28.0043258
END:VEVENT
END:VCALENDAR