BEGIN:VCALENDAR
VERSION:2.0
PRODID:-//Australian Taekwondo - ECPv6.15.20//NONSGML v1.0//EN
CALSCALE:GREGORIAN
METHOD:PUBLISH
X-WR-CALNAME:Australian Taekwondo
X-ORIGINAL-URL:https://austkd.com.au
X-WR-CALDESC:Events for Australian Taekwondo
REFRESH-INTERVAL;VALUE=DURATION:PT1H
X-Robots-Tag:noindex
X-PUBLISHED-TTL:PT1H
BEGIN:VTIMEZONE
TZID:Australia/Melbourne
BEGIN:STANDARD
TZOFFSETFROM:+1100
TZOFFSETTO:+1000
TZNAME:AEST
DTSTART:20220402T160000
END:STANDARD
BEGIN:DAYLIGHT
TZOFFSETFROM:+1000
TZOFFSETTO:+1100
TZNAME:AEDT
DTSTART:20221001T160000
END:DAYLIGHT
BEGIN:STANDARD
TZOFFSETFROM:+1100
TZOFFSETTO:+1000
TZNAME:AEST
DTSTART:20230401T160000
END:STANDARD
BEGIN:DAYLIGHT
TZOFFSETFROM:+1000
TZOFFSETTO:+1100
TZNAME:AEDT
DTSTART:20230930T160000
END:DAYLIGHT
BEGIN:STANDARD
TZOFFSETFROM:+1100
TZOFFSETTO:+1000
TZNAME:AEST
DTSTART:20240406T160000
END:STANDARD
BEGIN:DAYLIGHT
TZOFFSETFROM:+1000
TZOFFSETTO:+1100
TZNAME:AEDT
DTSTART:20241005T160000
END:DAYLIGHT
END:VTIMEZONE
BEGIN:VEVENT
DTSTART;TZID=Australia/Melbourne:20230325T133000
DTEND;TZID=Australia/Melbourne:20230325T160000
DTSTAMP:20260424T234944
CREATED:20230214T043747Z
LAST-MODIFIED:20230221T000444Z
UID:10000032-1679751000-1679760000@austkd.com.au
SUMMARY:Get Involved in Para-Taekwondo - NSW
DESCRIPTION:Join us at one of Paralympics Australia’s upcoming Multi-Sport Days! It’s your opportunity to learn more about the programs on offer in your local area\, meet new friends and have fun. \nTo register for this session\, please click here.
URL:https://austkd.com.au/event-information-centre/get-involved-in-para-taekwondo-nsw/
LOCATION:University of Newcastle\, University Dr\, Callaghan\, NSW\, 2308\, Australia
CATEGORIES:Para Event
ATTACH;FMTTYPE=image/jpeg:https://austkd.com.au/wp-content/uploads/2023/02/AUSTKD_PA_logo.jpg
ORGANIZER;CN="Australian Taekwondo":MAILTO:events@austkd.com.au
END:VEVENT
BEGIN:VEVENT
DTSTART;TZID=Australia/Melbourne:20230326T090000
DTEND;TZID=Australia/Melbourne:20230326T173000
DTSTAMP:20260424T234944
CREATED:20230203T050601Z
LAST-MODIFIED:20230303T080358Z
UID:10000023-1679821200-1679851800@austkd.com.au
SUMMARY:NSW Kyorugi Referee Course - 3rd & 4th Class Course
DESCRIPTION:NSW Kyorugi Referee Course - 3rd & 4th Class Course \nClick here to register \nKyorugi Referee entry level course for new referees\, upgrade from 4th to 3rd Class and refresher for 4th & 3rd Class referees \nTo be eligible to upgrade from 4th to 3rd Class\, you must be at least 18 years of age and have completed 30 hours officiating at sanctioned events as a 4th Class referee and achieved the competencies detailed in the AT Kyorugi Referee Framework \nNew applicants for 4th Class must be a minimum of 14 years of age. \nPlease note that the pre-course online learning modules must be completed before the commencement of the course. The link to the pre-course modules will be provided once you have registered for the course. \nKey details: \n\nLevel 2\, 6B Figtree Drive\, Sydney Olympic Park 2127\nSunday March 26th  2023 9am-5:30pm\nEntries close 5pm March 23 2023 (AEDT)\n$110\n\nEligibility \n\nParticipants must be current AT members\n4th Class applicants must be a minimum age of 14 years\n\nContact \n\nSteve Ashbridge\nsteve@muyehtaekwondo.com\n0409 305 327\n\n 
URL:https://austkd.com.au/event-information-centre/nsw-kyorugi-referee-course-3rd-4th-class-course/
LOCATION:Sydney Olympic Park\, Sydney\, NSW\, 2127\, Australia
CATEGORIES:Education & Training
ATTACH;FMTTYPE=image/jpeg:https://austkd.com.au/wp-content/uploads/2023/02/NSW_logo.jpg
GEO:-33.840308;151.0675147
END:VEVENT
BEGIN:VEVENT
DTSTART;TZID=Australia/Melbourne:20230401T130000
DTEND;TZID=Australia/Melbourne:20230401T160000
DTSTAMP:20260424T234944
CREATED:20230216T003504Z
LAST-MODIFIED:20230216T003754Z
UID:10000033-1680354000-1680364800@austkd.com.au
SUMMARY:Get Involved in Para-Taekwondo - SA
DESCRIPTION:Join us at one of Paralympics Australia’s upcoming Multi-Sport Days! It’s your opportunity to learn more about the programs on offer in your local area\, meet new friends and have fun. \nTo register for this session\, please click here.
URL:https://austkd.com.au/event-information-centre/get-involved-in-para-taekwondo-sa/
LOCATION:ARC Campbelltown\, SA\, 531 Lower North East Rd\, Campbelltown\, SA\, 5074\, Australia
CATEGORIES:Para Event
ATTACH;FMTTYPE=image/jpeg:https://austkd.com.au/wp-content/uploads/2023/02/AUSTKD_PA_logo.jpg
ORGANIZER;CN="Australian Taekwondo":MAILTO:events@austkd.com.au
GEO:-34.8845537;138.6573338
X-APPLE-STRUCTURED-LOCATION;VALUE=URI;X-ADDRESS=ARC Campbelltown SA 531 Lower North East Rd Campbelltown SA 5074 Australia;X-APPLE-RADIUS=500;X-TITLE=531 Lower North East Rd:geo:138.6573338,-34.8845537
END:VEVENT
BEGIN:VEVENT
DTSTART;TZID=Australia/Melbourne:20230416T100000
DTEND;TZID=Australia/Melbourne:20230416T120000
DTSTAMP:20260424T234944
CREATED:20230216T025618Z
LAST-MODIFIED:20230216T031023Z
UID:10000034-1681639200-1681646400@austkd.com.au
SUMMARY:Get Involved in Para-Taekwondo - VIC
DESCRIPTION:Join us at one of Paralympics Australia’s upcoming Multi-Sport Days! It’s your opportunity to learn more about the programs on offer in your local area\, meet new friends and have fun. \nTo register for this session\, please click here.
URL:https://austkd.com.au/event-information-centre/get-involved-in-para-taekwondo-vic/
LOCATION:Aqualink Box Hill\, 31 Surrey Dr\, Box Hill\, VIC\, 3128\, Australia
CATEGORIES:Para Event
ATTACH;FMTTYPE=image/jpeg:https://austkd.com.au/wp-content/uploads/2023/02/AUSTKD_PA_logo.jpg
ORGANIZER;CN="Australian Taekwondo":MAILTO:events@austkd.com.au
GEO:-37.8267395;145.1176684
X-APPLE-STRUCTURED-LOCATION;VALUE=URI;X-ADDRESS=Aqualink Box Hill 31 Surrey Dr Box Hill VIC 3128 Australia;X-APPLE-RADIUS=500;X-TITLE=31 Surrey Dr:geo:145.1176684,-37.8267395
END:VEVENT
BEGIN:VEVENT
DTSTART;TZID=Australia/Melbourne:20230423T090000
DTEND;TZID=Australia/Melbourne:20230423T160000
DTSTAMP:20260424T234944
CREATED:20230414T055913Z
LAST-MODIFIED:20230414T055913Z
UID:10000043-1682240400-1682265600@austkd.com.au
SUMMARY:VIC Poomsae Referee Course - Level 1 & Level 2
DESCRIPTION:VIC Poomsae Referee Course - Level 1 & Level 2 \nClick here to register \nThis is a Poomsae Referee accreditation course for Level 1 & 2 AUSTKD referees. The course will cover both theory (current WT rules) and practical. Attendees will need to read and be familiar with the WT rules before attending the course. Referees that judge at an AUSTKD sanctioned event following the course will be refunded their fee. \n\nDate: Sunday April 23rd 2023\nTime: 9am-4pm\nLocation: Reservoir East Primary School (corner of Genoa Ave) - 58 Boldrewood Parade\, Reservoir\, VIC 3073\nEntries Close: 5pm (AEST) Friday April 21st 2023\nEligibility: AUSTKD Member. Open for Level 1 & 2 AUSTKD accredited referees. Refreshing for accreditation Level 1 & 2. Level 3 may attend if eligble to upgrade to Level 2.\nFee: $40\n\nContact \n\nPat Petrovski\njudge.atv@gmail.com\n0418 435 889
URL:https://austkd.com.au/event-information-centre/vic-poomsae-referee-course-level-1-level-2/
LOCATION:Reservoir East Primary School\, 58 Boldrewood Parade\, Reservoir\, VIC\, 3073\, Australia
CATEGORIES:Education & Training,Poomsae
ATTACH;FMTTYPE=image/jpeg:https://austkd.com.au/wp-content/uploads/2023/02/VIC_logo.jpg
GEO:-37.72117850000001;145.0216938
X-APPLE-STRUCTURED-LOCATION;VALUE=URI;X-ADDRESS=Reservoir East Primary School 58 Boldrewood Parade Reservoir VIC 3073 Australia;X-APPLE-RADIUS=500;X-TITLE=58 Boldrewood Parade:geo:145.0216938,-37.72117850000001
END:VEVENT
BEGIN:VEVENT
DTSTART;TZID=Australia/Melbourne:20230423T093000
DTEND;TZID=Australia/Melbourne:20230423T120000
DTSTAMP:20260424T234944
CREATED:20230216T030433Z
LAST-MODIFIED:20230216T030433Z
UID:10000035-1682242200-1682251200@austkd.com.au
SUMMARY:Get Involved in Para-Taekwondo - ACT
DESCRIPTION:Join us at one of Paralympics Australia’s upcoming Multi-Sport Days! It’s your opportunity to learn more about the programs on offer in your local area\, meet new friends and have fun. \nTo register for this session\, please click here.
URL:https://austkd.com.au/event-information-centre/get-involved-in-para-taekwondo-act/
LOCATION:University of Canberra\, 11 Kirinari St ACT\, Bruce\, ACT\, 2617
CATEGORIES:Para Event
ATTACH;FMTTYPE=image/jpeg:https://austkd.com.au/wp-content/uploads/2023/02/AUSTKD_PA_logo.jpg
ORGANIZER;CN="Australian Taekwondo":MAILTO:events@austkd.com.au
GEO:-35.2384551;149.0844454
X-APPLE-STRUCTURED-LOCATION;VALUE=URI;X-ADDRESS=University of Canberra 11 Kirinari St ACT Bruce ACT 2617;X-APPLE-RADIUS=500;X-TITLE=11 Kirinari St ACT:geo:149.0844454,-35.2384551
END:VEVENT
BEGIN:VEVENT
DTSTART;TZID=Australia/Melbourne:20230429T080000
DTEND;TZID=Australia/Melbourne:20230430T170000
DTSTAMP:20260424T234944
CREATED:20230123T023408Z
LAST-MODIFIED:20230123T023408Z
UID:10000017-1682755200-1682874000@austkd.com.au
SUMMARY:Gold Coast Open
DESCRIPTION:
URL:https://austkd.com.au/event-information-centre/gold-coast-open/
LOCATION:Gold Coast Sports & Leisure Centre\, 296 Nerang Broadbeach Rd\, Carrara\, QLD\, 4211\, Australia
ORGANIZER;CN="Carlos Lakerdis":MAILTO:info@goldcoastopen.com.au
END:VEVENT
BEGIN:VEVENT
DTSTART;TZID=Australia/Melbourne:20230507T080000
DTEND;TZID=Australia/Melbourne:20230507T170000
DTSTAMP:20260424T234944
CREATED:20230323T235657Z
LAST-MODIFIED:20230323T235657Z
UID:10000039-1683446400-1683478800@austkd.com.au
SUMMARY:WA Kyorugi Referee Course - 3rd & 4th Class
DESCRIPTION:WA Kyorugi Referee Course - 3rd & 4th Class \nClick here to register \nKyorugi Referee entry level course for new referees\, upgrade from 4th to 3rd Class and refresher for 4th & 3rd Class referees \nTo be eligible to upgrade from 4th to 3rd Class\, you must be at least 18 years of age and have completed 30 hours officiating at sanctioned events as a 4th Class referee and achieved the competencies detailed in the AT Kyorugi Referee Framework \nNew applicants for 4th Class must be a minimum of 14 years of age. \nPlease note that the pre-course online learning modules must be completed before the commencement of the course. The link to the pre-course modules will be provided once you have registered for the course. \nKey details: \n\nTaekwondo Oh Do Kwan Port Kennedy - 1/6-8 Bakewell Drive\, Port Kennedy\, WA 6172\nSunday May 7th 8am-5pm\nEntries close 5pm May 4th (AEST)\n$110\n\nEligibility \n\nParticipants must be current AT members\n4th Class applicants must be a minimum age of 14 years\n\nContact \n\nJenny Crutchett\njenbo74@hotmail.com\n0419 170 372
URL:https://austkd.com.au/event-information-centre/wa-kyorugi-referee-course-3rd-4th-class/
LOCATION:Taekwondo Oh Do Kwan Port Kennedy\, 1/6-8 Bakewell Drive\, Port Kennedy\, WA\, 6172\, Australia
CATEGORIES:Education & Training,Kyorugi
ATTACH;FMTTYPE=image/jpeg:https://austkd.com.au/wp-content/uploads/2023/01/WA_logo.jpg
GEO:-32.3633876;115.7601053
X-APPLE-STRUCTURED-LOCATION;VALUE=URI;X-ADDRESS=Taekwondo Oh Do Kwan Port Kennedy 1/6-8 Bakewell Drive Port Kennedy WA 6172 Australia;X-APPLE-RADIUS=500;X-TITLE=1/6-8 Bakewell Drive:geo:115.7601053,-32.3633876
END:VEVENT
BEGIN:VEVENT
DTSTART;TZID=Australia/Melbourne:20230507T080000
DTEND;TZID=Australia/Melbourne:20230507T170000
DTSTAMP:20260424T234944
CREATED:20230323T235455Z
LAST-MODIFIED:20230323T235455Z
UID:10000038-1683446400-1683478800@austkd.com.au
SUMMARY:WA Kyorugi Referee Course - 1st & 2nd Class Course
DESCRIPTION:WA Kyorugi Referee Course - 1st & 2nd Class Course \nClick here to register \nKyorugi Referee National level refresher course for 2nd\, 1st and S class referees. Eligible referees may upgrade from 3rd to 2nd class; or from 2nd to 1st Class. \nTo upgrade from 3rd to 2nd Class you must have completed 70 hours officiating at sanctioned events as a 3rd class and achieved the competencies detailed in the AT Kyorugi Referee Framework. \nTo upgrade from 2nd to 1st Class you must have completed 70 hours officiating at sanctioned events as a 2nd Class and achieved the competencies detailed in the AT Kyorugi Referee Framework. \nPlease note that the pre-course online learning modules must be completed before the commencement of the course. The link to the pre-course modules will be provided once you have registered for the course. \nKey details: \n\nTaekwondo Oh Do Kwan Port Kennedy - 1/6-8 Bakewell Drive\, Port Kennedy\, WA 6172\nSunday May 7th 8am-5pm\nEntries close 5pm May 4th (AEST)\n$110\n\nEligibility \n\nParticipants must be current AT members and must hold a relevant AT Kyorugi Referee accreditation\n\nContact \n\nJenny Crutchett\njenbo74@hotmail.com\n0419 170 372
URL:https://austkd.com.au/event-information-centre/wa-kyorugi-referee-course-1st-2nd-class-course/
LOCATION:Taekwondo Oh Do Kwan Port Kennedy\, 1/6-8 Bakewell Drive\, Port Kennedy\, WA\, 6172\, Australia
CATEGORIES:Education & Training,Kyorugi
ATTACH;FMTTYPE=image/jpeg:https://austkd.com.au/wp-content/uploads/2023/01/WA_logo.jpg
GEO:-32.3633876;115.7601053
X-APPLE-STRUCTURED-LOCATION;VALUE=URI;X-ADDRESS=Taekwondo Oh Do Kwan Port Kennedy 1/6-8 Bakewell Drive Port Kennedy WA 6172 Australia;X-APPLE-RADIUS=500;X-TITLE=1/6-8 Bakewell Drive:geo:115.7601053,-32.3633876
END:VEVENT
BEGIN:VEVENT
DTSTART;TZID=Australia/Melbourne:20230507T100000
DTEND;TZID=Australia/Melbourne:20230507T170000
DTSTAMP:20260424T234944
CREATED:20230403T000435Z
LAST-MODIFIED:20230403T000435Z
UID:10000042-1683453600-1683478800@austkd.com.au
SUMMARY:SA Kyorugi Referee Course - 3rd & 4th Class
DESCRIPTION:SA Kyorugi Referee Course - 3rd & 4th Class \nPlease click here to register \nKyorugi Referee entry level course for new referees\, upgrade from 4th to 3rd Class and refresher for 4th & 3rd Class referees \nTo be eligible to upgrade from 4th to 3rd Class\, you must be at least 18 years of age and have completed 30 hours officiating at sanctioned events as a 4th Class referee and achieved the competencies detailed in the AT Kyorugi Referee Framework \nNew applicants for 4th Class must be a minimum of 14 years of age. \nPlease note that the pre-course online learning modules must be completed before the commencement of the course. The link to the pre-course modules will be provided once you have registered for the course. \nKey details: \n\nClarence Park Community Centre. 72/74 East Ave\, Black Forest SA 5035\nSunday May 7th 10am-5pm\nEntries close 5pm May 4th (AEST)\n$110\n\nEligibility \n\nParticipants must be current AT members\n4th Class applicants must be a minimum age of 14 years\n\nContact \n\nBen Hock\nben@adelaidetkd.com.au
URL:https://austkd.com.au/event-information-centre/sa-kyorugi-referee-course-3rd-4th-class/
LOCATION:Clarence Park Community Centre\, 72/74 East Avenue\, Black Forest\, SA\, 5035\, Australia
CATEGORIES:Education & Training,Kyorugi
ATTACH;FMTTYPE=image/jpeg:https://austkd.com.au/wp-content/uploads/2023/02/SA_logo.jpg
GEO:-34.9606748;138.5808381
X-APPLE-STRUCTURED-LOCATION;VALUE=URI;X-ADDRESS=Clarence Park Community Centre 72/74 East Avenue Black Forest SA 5035 Australia;X-APPLE-RADIUS=500;X-TITLE=72/74 East Avenue:geo:138.5808381,-34.9606748
END:VEVENT
BEGIN:VEVENT
DTSTART;TZID=Australia/Melbourne:20230507T100000
DTEND;TZID=Australia/Melbourne:20230507T170000
DTSTAMP:20260424T234944
CREATED:20230403T000325Z
LAST-MODIFIED:20230403T000521Z
UID:10000041-1683453600-1683478800@austkd.com.au
SUMMARY:SA Kyorugi Referee Course - 1st & 2nd Class Course
DESCRIPTION:SA Kyorugi Referee Course - 1st & 2nd Class Course \nPlease click here to register \nKyorugi Referee National level refresher course for 2nd\, 1st and S class referees. Eligible referees may upgrade from 3rd to 2nd class; or from 2nd to 1st Class. \nTo upgrade from 3rd to 2nd Class you must have completed 70 hours officiating at sanctioned events as a 3rd class and achieved the competencies detailed in the AT Kyorugi Referee Framework. \nTo upgrade from 2nd to 1st Class you must have completed 70 hours officiating at sanctioned events as a 2nd Class and achieved the competencies detailed in the AT Kyorugi Referee Framework. \nPlease note that the pre-course online learning modules must be completed before the commencement of the course. The link to the pre-course modules will be provided once you have registered for the course. \nKey details: \n\nClarence Park Community Centre. 72/74 East Ave\, Black Forest SA 5035\nSunday May 7th 10am-5pm\nEntries close 5pm May 4th (AEST)\n$110\n\nEligibility \n\nParticipants must be current AT members and must hold a relevant AT Kyorugi Referee accreditation\n\nContact \n\nBen Hock\nben@adelaidetkd.com.au
URL:https://austkd.com.au/event-information-centre/sa-kyorugi-referee-course-1st-2nd-class-course/
LOCATION:Clarence Park Community Centre\, 72/74 East Avenue\, Black Forest\, SA\, 5035\, Australia
CATEGORIES:Education & Training,Kyorugi
ATTACH;FMTTYPE=image/jpeg:https://austkd.com.au/wp-content/uploads/2023/02/SA_logo.jpg
GEO:-34.9606748;138.5808381
X-APPLE-STRUCTURED-LOCATION;VALUE=URI;X-ADDRESS=Clarence Park Community Centre 72/74 East Avenue Black Forest SA 5035 Australia;X-APPLE-RADIUS=500;X-TITLE=72/74 East Avenue:geo:138.5808381,-34.9606748
END:VEVENT
END:VCALENDAR