BEGIN:VCALENDAR
VERSION:2.0
PRODID:-//Australian Taekwondo - ECPv6.15.20//NONSGML v1.0//EN
CALSCALE:GREGORIAN
METHOD:PUBLISH
X-ORIGINAL-URL:https://austkd.com.au
X-WR-CALDESC:Events for Australian Taekwondo
REFRESH-INTERVAL;VALUE=DURATION:PT1H
X-Robots-Tag:noindex
X-PUBLISHED-TTL:PT1H
BEGIN:VTIMEZONE
TZID:Australia/Melbourne
BEGIN:STANDARD
TZOFFSETFROM:+1100
TZOFFSETTO:+1000
TZNAME:AEST
DTSTART:20250405T160000
END:STANDARD
BEGIN:DAYLIGHT
TZOFFSETFROM:+1000
TZOFFSETTO:+1100
TZNAME:AEDT
DTSTART:20251004T160000
END:DAYLIGHT
BEGIN:STANDARD
TZOFFSETFROM:+1100
TZOFFSETTO:+1000
TZNAME:AEST
DTSTART:20260404T160000
END:STANDARD
BEGIN:DAYLIGHT
TZOFFSETFROM:+1000
TZOFFSETTO:+1100
TZNAME:AEDT
DTSTART:20261003T160000
END:DAYLIGHT
BEGIN:STANDARD
TZOFFSETFROM:+1100
TZOFFSETTO:+1000
TZNAME:AEST
DTSTART:20270403T160000
END:STANDARD
BEGIN:DAYLIGHT
TZOFFSETFROM:+1000
TZOFFSETTO:+1100
TZNAME:AEDT
DTSTART:20271002T160000
END:DAYLIGHT
END:VTIMEZONE
BEGIN:VEVENT
DTSTART;VALUE=DATE:20261001
DTEND;VALUE=DATE:20261005
DTSTAMP:20260422T044850
CREATED:20260113T052824Z
LAST-MODIFIED:20260303T013834Z
UID:10000171-1790812800-1791158399@austkd.com.au
SUMMARY:2026 Australian Taekwondo National Championships (R4)
DESCRIPTION:To be held=over 4 competition days. \nThis is an R4 event under the National Ranking System \nMore information to be released soon.
URL:https://austkd.com.au/event-information-centre/2026-australian-taekwondo-national-championships/
CATEGORIES:Kyorugi,National Event,Nationally Ranked Event,Para Event,Poomsae
ATTACH;FMTTYPE=image/png:https://austkd.com.au/wp-content/uploads/2026/02/STATE-NATIONALLY-RANKED-EVENTS-4.png
ORGANIZER;CN="Australian Taekwondo":MAILTO:events@austkd.com.au
END:VEVENT
END:VCALENDAR