BEGIN:VCALENDAR
VERSION:2.0
PRODID:-//Australian Taekwondo - ECPv6.15.20//NONSGML v1.0//EN
CALSCALE:GREGORIAN
METHOD:PUBLISH
X-ORIGINAL-URL:https://austkd.com.au
X-WR-CALDESC:Events for Australian Taekwondo
REFRESH-INTERVAL;VALUE=DURATION:PT1H
X-Robots-Tag:noindex
X-PUBLISHED-TTL:PT1H
BEGIN:VTIMEZONE
TZID:Australia/Melbourne
BEGIN:STANDARD
TZOFFSETFROM:+1100
TZOFFSETTO:+1000
TZNAME:AEST
DTSTART:20220402T160000
END:STANDARD
BEGIN:DAYLIGHT
TZOFFSETFROM:+1000
TZOFFSETTO:+1100
TZNAME:AEDT
DTSTART:20221001T160000
END:DAYLIGHT
BEGIN:STANDARD
TZOFFSETFROM:+1100
TZOFFSETTO:+1000
TZNAME:AEST
DTSTART:20230401T160000
END:STANDARD
BEGIN:DAYLIGHT
TZOFFSETFROM:+1000
TZOFFSETTO:+1100
TZNAME:AEDT
DTSTART:20230930T160000
END:DAYLIGHT
BEGIN:STANDARD
TZOFFSETFROM:+1100
TZOFFSETTO:+1000
TZNAME:AEST
DTSTART:20240406T160000
END:STANDARD
BEGIN:DAYLIGHT
TZOFFSETFROM:+1000
TZOFFSETTO:+1100
TZNAME:AEDT
DTSTART:20241005T160000
END:DAYLIGHT
END:VTIMEZONE
BEGIN:VEVENT
DTSTART;TZID=Australia/Melbourne:20230820T090000
DTEND;TZID=Australia/Melbourne:20230820T153000
DTSTAMP:20260420T141130
CREATED:20230727T030324Z
LAST-MODIFIED:20230727T030611Z
UID:10000049-1692522000-1692545400@austkd.com.au
SUMMARY:WA Poomsae Referee Course & Refresher course - Level 1 & 2
DESCRIPTION:WA Poomsae Referee Course & Refresher course - Level 1 & 2 \nClick here to register \nThis is a Poomsae Referee accreditation course for Level 1 & 2 AUSTKD poomsae referees. The course will cover both theory (current WT rules) and practical. Attendees will need to read and be familiar with the WT rules before attending the course. \n\nDate: Sunday August 20th 2023\nTime: 9am-3:30pm\nLocation: Unit 2/123 Burslem Drive\, Maddington\nEntries Close: 10pm (AEST) Wednesday August 16th 2023\nEligibility: AUSTKD member. Participants need to be Black belts\, age 18 years and 3rd Dan above. Open for and all current 1st & 2nd  level AUSTKD referees. Refreshing/upgrade for accredited Level. (If eligible may upgrade to next level)\nFee: $40\n\nContact \n\nRoss Hartnett\ntkdodk@iprimus.com.au\n0417 910 362
URL:https://austkd.com.au/event-information-centre/wa-poomsae-referee-course-refresher-course-level-1-2/
LOCATION:Oh Do Kwan Taekwondo\, Australia
ATTACH;FMTTYPE=image/jpeg:https://austkd.com.au/wp-content/uploads/2023/01/WA_logo.jpg
GEO:-25.274398;133.775136
END:VEVENT
BEGIN:VEVENT
DTSTART;TZID=Australia/Melbourne:20230820T090000
DTEND;TZID=Australia/Melbourne:20230820T153000
DTSTAMP:20260420T141130
CREATED:20230727T030515Z
LAST-MODIFIED:20230727T030515Z
UID:10000050-1692522000-1692545400@austkd.com.au
SUMMARY:WA Poomsae Referee Course - Level 3 & Level 4 plus C class
DESCRIPTION:WA Poomsae Referee Course - Level 3 & Level 4 plus C class \nClick here to register \nThis is a Poomsae Referee accreditation course for Level C & 4th Level – Level 3 AUSTKD poomsae referees. The course will cover both theory (current WT rules) and practical. Attendees will need to read and be familiar with the WT rules before attending the course. \n\nDate: Sunday Augist 20th 2023\nTime: 9am-3:30pm\nLocation: Unit 2/123 Burslem Drive\, Maddington\nEntries Close: 10pm (AEST) Wednesday August 16th 2023\nEligibility: AUSTKD member. Participants need to be Red/Black belts\, age 15 years and above. Open for new (first time referees) and all current level AUSTKD referees. Refreshing/upgrade for accredited Level. (If eligible may upgrade to next level)\nFee: $40\n\nContact \n\nRoss Hartnett\ntkdodk@iprimus.com.au\n0417 910 362
URL:https://austkd.com.au/event-information-centre/wa-poomsae-referee-course-level-3-level-4-plus-c-class/
LOCATION:Oh Do Kwan Taekwondo\, Australia
ATTACH;FMTTYPE=image/jpeg:https://austkd.com.au/wp-content/uploads/2023/01/WA_logo.jpg
GEO:-25.274398;133.775136
END:VEVENT
BEGIN:VEVENT
DTSTART;TZID=Australia/Melbourne:20230820T090000
DTEND;TZID=Australia/Melbourne:20230820T153000
DTSTAMP:20260420T141130
CREATED:20230802T235218Z
LAST-MODIFIED:20230802T235218Z
UID:10000051-1692522000-1692545400@austkd.com.au
SUMMARY:QLD Poomsae Referee Course - Level 3 & Level 4 plus C class
DESCRIPTION:QLD Poomsae Referee Course - Level 3 & Level 4 plus C class \nClick here to register \nThis is a Poomsae Referee accreditation course for Level C & 4th Level – Level 3 AUSTKD poomsae referees. The course will cover both theory (current WT rules) and practical. Attendees will need to read and be familiar with the WT rules before attending the course. \n\nDate: Sunday August 20th 2023\nTime: 9am-3:30pm\nLocation: Lakerdis Martial Arts - 1/5 Machinery Pde\, Caboolture\, QLD 4510\nEntries Close: 10pm (AEST) Wednesday August 16th 2023\nEligibility: AUSTKD member. Participants need to be Red/Black belts\, age 15 years and above. Open for new (first time referees) and all current level AUSTKD referees. Refreshing/upgrade for accredited Level. (If eligible may upgrade to next level)\nFee: $110\n\nContact \n\nMaddy Houston\nmaddy.houston@qldtkd.com.au
URL:https://austkd.com.au/event-information-centre/qld-poomsae-referee-course-level-3-level-4-plus-c-class/
LOCATION:Lakerdis Martial Arts\, Australia
ATTACH;FMTTYPE=image/jpeg:https://austkd.com.au/wp-content/uploads/2022/12/ATQ_logo.jpg
GEO:-25.274398;133.775136
END:VEVENT
BEGIN:VEVENT
DTSTART;TZID=Australia/Melbourne:20230820T090000
DTEND;TZID=Australia/Melbourne:20230820T153000
DTSTAMP:20260420T141130
CREATED:20230802T235420Z
LAST-MODIFIED:20230802T235420Z
UID:10000052-1692522000-1692545400@austkd.com.au
SUMMARY:QLD Poomsae Referee Course & Refresher course - Level 1 & 2
DESCRIPTION:QLD Poomsae Referee Course & Refresher course - Level 1 & 2 \nClick here to register \nThis is a Poomsae Referee accreditation course for Level 1 & 2 AUSTKD poomsae referees. The course will cover both theory (current WT rules) and practical. Attendees will need to read and be familiar with the WT rules before attending the course. \n\nDate: Sunday August 20th 2023\nTime: 9am-3:30pm\nLocation: Lakerdis Martial Arts - 1/5 Machinery Pde\, Caboolture\, QLD 4510\nEntries Close: 10pm (AEST) Wednesday August 16th 2023\nEligibility: AUSTKD member. Participants need to be Black belts\, age 18 years and 3rd Dan above. Open for and all current 1st & 2nd  level AUSTKD referees. Refreshing/upgrade for accredited Level. (If eligible may upgrade to next level)\nFee: $110\n\nContact \n\nMaddy Houston\nmaddy.houston@qldtkd.com.au
URL:https://austkd.com.au/event-information-centre/qld-poomsae-referee-course-refresher-course-level-1-2/
LOCATION:Lakerdis Martial Arts\, Australia
ATTACH;FMTTYPE=image/jpeg:https://austkd.com.au/wp-content/uploads/2022/12/ATQ_logo.jpg
GEO:-25.274398;133.775136
END:VEVENT
END:VCALENDAR