BEGIN:VCALENDAR
VERSION:2.0
PRODID:-//Australian Taekwondo - ECPv6.15.20//NONSGML v1.0//EN
CALSCALE:GREGORIAN
METHOD:PUBLISH
X-WR-CALNAME:Australian Taekwondo
X-ORIGINAL-URL:https://austkd.com.au
X-WR-CALDESC:Events for Australian Taekwondo
REFRESH-INTERVAL;VALUE=DURATION:PT1H
X-Robots-Tag:noindex
X-PUBLISHED-TTL:PT1H
BEGIN:VTIMEZONE
TZID:Australia/Melbourne
BEGIN:STANDARD
TZOFFSETFROM:+1100
TZOFFSETTO:+1000
TZNAME:AEST
DTSTART:20240406T160000
END:STANDARD
BEGIN:DAYLIGHT
TZOFFSETFROM:+1000
TZOFFSETTO:+1100
TZNAME:AEDT
DTSTART:20241005T160000
END:DAYLIGHT
BEGIN:STANDARD
TZOFFSETFROM:+1100
TZOFFSETTO:+1000
TZNAME:AEST
DTSTART:20250405T160000
END:STANDARD
BEGIN:DAYLIGHT
TZOFFSETFROM:+1000
TZOFFSETTO:+1100
TZNAME:AEDT
DTSTART:20251004T160000
END:DAYLIGHT
BEGIN:STANDARD
TZOFFSETFROM:+1100
TZOFFSETTO:+1000
TZNAME:AEST
DTSTART:20260404T160000
END:STANDARD
BEGIN:DAYLIGHT
TZOFFSETFROM:+1000
TZOFFSETTO:+1100
TZNAME:AEDT
DTSTART:20261003T160000
END:DAYLIGHT
END:VTIMEZONE
BEGIN:VEVENT
DTSTART;TZID=Australia/Melbourne:20250309T090000
DTEND;TZID=Australia/Melbourne:20250309T170000
DTSTAMP:20260425T224107
CREATED:20241203T033511Z
LAST-MODIFIED:20250113T034403Z
UID:10000139-1741510800-1741539600@austkd.com.au
SUMMARY:2025 Cadet Selection Event
DESCRIPTION:Australian Taekwondo is proud to announce the Cadet World Championship Selection Event\, set to take place on Sunday\, March 9\, 2025\, at the Combat Centre\, Australian Institute of Sport (AIS)\, Canberra. This prestigious event will determine the athletes who will represent Australia at the 2025 World Taekwondo Cadet Championships in Fujairah\, UAE\, from May 10 to May 14\, 2025. \nEvent Details: \nClick here to register \nClick here to view the Event Guide \nContact: \nevents@austkd.com.au 
URL:https://austkd.com.au/event-information-centre/2025-cadet-selection-event/
LOCATION:Australian Institute of Sport\, Leverrier St\, Bruce\, ACT\, 2617\, Australia
CATEGORIES:Kyorugi,National Event,Selection Event (National Team)
ATTACH;FMTTYPE=image/png:https://austkd.com.au/wp-content/uploads/2024/02/Combat-AT.png
ORGANIZER;CN="Australian Taekwondo":MAILTO:events@austkd.com.au
GEO:-35.2452846;149.1020239
X-APPLE-STRUCTURED-LOCATION;VALUE=URI;X-ADDRESS=Australian Institute of Sport Leverrier St Bruce ACT 2617 Australia;X-APPLE-RADIUS=500;X-TITLE=Leverrier St:geo:149.1020239,-35.2452846
END:VEVENT
END:VCALENDAR