BEGIN:VCALENDAR
VERSION:2.0
PRODID:-//Australian Taekwondo - ECPv6.15.20//NONSGML v1.0//EN
CALSCALE:GREGORIAN
METHOD:PUBLISH
X-ORIGINAL-URL:https://austkd.com.au
X-WR-CALDESC:Events for Australian Taekwondo
REFRESH-INTERVAL;VALUE=DURATION:PT1H
X-Robots-Tag:noindex
X-PUBLISHED-TTL:PT1H
BEGIN:VTIMEZONE
TZID:Australia/Melbourne
BEGIN:STANDARD
TZOFFSETFROM:+1100
TZOFFSETTO:+1000
TZNAME:AEST
DTSTART:20240406T160000
END:STANDARD
BEGIN:DAYLIGHT
TZOFFSETFROM:+1000
TZOFFSETTO:+1100
TZNAME:AEDT
DTSTART:20241005T160000
END:DAYLIGHT
BEGIN:STANDARD
TZOFFSETFROM:+1100
TZOFFSETTO:+1000
TZNAME:AEST
DTSTART:20250405T160000
END:STANDARD
BEGIN:DAYLIGHT
TZOFFSETFROM:+1000
TZOFFSETTO:+1100
TZNAME:AEDT
DTSTART:20251004T160000
END:DAYLIGHT
BEGIN:STANDARD
TZOFFSETFROM:+1100
TZOFFSETTO:+1000
TZNAME:AEST
DTSTART:20260404T160000
END:STANDARD
BEGIN:DAYLIGHT
TZOFFSETFROM:+1000
TZOFFSETTO:+1100
TZNAME:AEDT
DTSTART:20261003T160000
END:DAYLIGHT
END:VTIMEZONE
BEGIN:VEVENT
DTSTART;TZID=Australia/Melbourne:20250510T093000
DTEND;TZID=Australia/Melbourne:20250510T163000
DTSTAMP:20260424T193911
CREATED:20250317T024656Z
LAST-MODIFIED:20250321T053045Z
UID:10000160-1746869400-1746894600@austkd.com.au
SUMMARY:VIC | Poomsae Referee Course - Level 4 Refresh and New
DESCRIPTION:VIC | Poomsae Referee Course - Level 4 Refresh and New\nINTERESTED IN BECOMING A POOMSAE REFEREE? This is an AT Poomsae Referee accreditation course for black belts over the age of 15 that are interested in becoming accredited. It is also a refresher for Level 4 Australian Taekwondo Poomsae referees that have not yet earned enough point to accredit to level 3. The course will cover both theory (current WT rules) and practical. Attendees will need to read and be familiar with the WT rules before attending the course. \nRegistration: \nClick Here \n\nDate: Saturday May 10 2025\nTime: 9:30am-4:30pm\nLocation: Reservoir East Primary School - 68 Boldrewood Parade\, Reservoir 3073.\nEntries Close: 5pm Thursday May 8th\nEligibility: Must meet the AT accreditation requirements to be able to update. The seminar attendance will be given 1 point towards accreditation. This seminar is for new referees or level 4 that are not eligible to upgrade to level 3.\nBring: Pen & paper/note taking device\, water\, and wear white "v " dobok and belt\nFee: $40 (Late registration will incur a $10.00 late fee)\n\nPlease ensure that you are familiar with the World Taekwondo Poomsae Competition Rules and Interpretation. This can be downloaded from worldtaekwondo.org. \nContact \n\nPat Petrovski\njudge.atv@gmail.com\n0418 435 889
URL:https://austkd.com.au/event-information-centre/vic-poomsae-referee-course-level-4-refresh-and-new/
LOCATION:Reservoir East Primary School\, 58 Boldrewood Parade\, Reservoir\, VIC\, 3073\, Australia
CATEGORIES:Education & Training,Poomsae
ORGANIZER;CN="Australian Taekwondo VIC":MAILTO:austkdvic@gmail.com
GEO:-37.72117850000001;145.0216938
X-APPLE-STRUCTURED-LOCATION;VALUE=URI;X-ADDRESS=Reservoir East Primary School 58 Boldrewood Parade Reservoir VIC 3073 Australia;X-APPLE-RADIUS=500;X-TITLE=58 Boldrewood Parade:geo:145.0216938,-37.72117850000001
END:VEVENT
END:VCALENDAR